{
 "currentVersion": 11.5,
 "cimVersion": "3.5.0",
 "serviceDescription": "NOAA RNC Charts, projected into Alaska Albers and cached by Alaska Department of Fish and Game. Becuase this is cached from a service, it can not be updated. \n\nThe NOAA_RNC MapService provides a seamless collarless mosaic of the NOAA Raster Nautical Charts. Non-cached link to more up-to-date source http://egisws02.nos.noaa.gov/ArcGIS/rest/services/RNC \n\nThis map service is not to be used for navigation.",
 "mapName": "Layers",
 "description": "",
 "copyrightText": "NOAA, ADFG",
 "supportsDynamicLayers": false,
 "layers": [
  {
   "id": 0,
   "name": "AKLimits_albers",
   "parentLayerId": -1,
   "defaultVisibility": true,
   "subLayerIds": null,
   "minScale": 26000000,
   "maxScale": 0,
   "type": "Feature Layer",
   "geometryType": "esriGeometryPolygon",
   "supportsDynamicLegends": true
  }
 ],
 "tables": [],
 "spatialReference": {
  "wkid": 102006,
  "latestWkid": 3338,
  "xyTolerance": 0.001,
  "zTolerance": 0.001,
  "mTolerance": 0.001,
  "falseX": -13752200,
  "falseY": -8948200,
  "xyUnits": 3.274821212148234E8,
  "falseZ": -100000,
  "zUnits": 10000,
  "falseM": -100000,
  "mUnits": 10000
 },
 "singleFusedMapCache": true,
 "tileInfo": {
  "rows": 512,
  "cols": 512,
  "dpi": 96,
  "format": "JPEG",
  "compressionQuality": 75,
  "origin": {
   "x": -13752200,
   "y": 18556200
  },
  "spatialReference": {
   "wkid": 102006,
   "latestWkid": 3338,
   "xyTolerance": 0.001,
   "zTolerance": 0.001,
   "mTolerance": 0.001,
   "falseX": -13752200,
   "falseY": -8948200,
   "xyUnits": 3.274821212148234E8,
   "falseZ": -100000,
   "zUnits": 10000,
   "falseM": -100000,
   "mUnits": 10000
  },
  "lods": [
   {
    "level": 0,
    "resolution": 4233.341800016934,
    "scale": 16000000
   },
   {
    "level": 1,
    "resolution": 2116.670900008467,
    "scale": 8000000
   },
   {
    "level": 2,
    "resolution": 1058.3354500042335,
    "scale": 4000000
   },
   {
    "level": 3,
    "resolution": 529.1677250021168,
    "scale": 2000000
   },
   {
    "level": 4,
    "resolution": 264.5838625010584,
    "scale": 1000000
   },
   {
    "level": 5,
    "resolution": 132.2919312505292,
    "scale": 500000
   },
   {
    "level": 6,
    "resolution": 66.1459656252646,
    "scale": 250000
   },
   {
    "level": 7,
    "resolution": 33.0729828126323,
    "scale": 125000
   },
   {
    "level": 8,
    "resolution": 16.764033528067056,
    "scale": 63360
   },
   {
    "level": 9,
    "resolution": 6.350012700025401,
    "scale": 24000
   }
  ]
 },
 "storageInfo": {
  "storageFormat": "esriMapCacheStorageModeCompact",
  "packetSize": 128
 },
 "initialExtent": {
  "xmin": -1.2290411763669841E7,
  "ymin": -3085054.693071065,
  "xmax": 1.1241808081369836E7,
  "ymax": 5861599.170371061,
  "spatialReference": {
   "wkid": 102006,
   "latestWkid": 3338,
   "xyTolerance": 0.001,
   "zTolerance": 0.001,
   "mTolerance": 0.001,
   "falseX": -13752200,
   "falseY": -8948200,
   "xyUnits": 3.274821212148234E8,
   "falseZ": -100000,
   "zUnits": 10000,
   "falseM": -100000,
   "mUnits": 10000
  }
 },
 "fullExtent": {
  "xmin": -2540325.5856,
  "ymin": 42264.77520000003,
  "xmax": 1491721.9033000004,
  "ymax": 2734279.7020999994,
  "spatialReference": {
   "wkid": 102006,
   "latestWkid": 3338,
   "xyTolerance": 0.001,
   "zTolerance": 0.001,
   "mTolerance": 0.001,
   "falseX": -13752200,
   "falseY": -8948200,
   "xyUnits": 3.274821212148234E8,
   "falseZ": -100000,
   "zUnits": 10000,
   "falseM": -100000,
   "mUnits": 10000
  }
 },
 "datesInUnknownTimezone": false,
 "minScale": 16000000,
 "maxScale": 24000,
 "units": "esriMeters",
 "supportedImageFormatTypes": "PNG32,PNG24,PNG,JPG,DIB,TIFF,EMF,PS,PDF,GIF,SVG,SVGZ,BMP",
 "documentInfo": {
  "Title": "NOAA Charts in Alaska Albers (from NOAA RNC)",
  "Author": "R Strauch",
  "Comments": "NOAA RNC Charts, projected into Alaska Albers and cached by Alaska Department of Fish and Game. Becuase this is cached from a service, it can not be updated. \n\nThe NOAA_RNC MapService provides a seamless collarless mosaic of the NOAA Raster Nautical Charts. Non-cached link to more up-to-date source http://egisws02.nos.noaa.gov/ArcGIS/rest/services/RNC \n\nThis map service is not to be used for navigation.",
  "Subject": "NOAA RNC Charts, projected into Alaska Albers",
  "Category": "",
  "Version": "10.1",
  "AntialiasingMode": "None",
  "TextAntialiasingMode": "Force",
  "Keywords": "NOAA RNC,navigational charts,Alaska,ADFG,Alaska Albers"
 },
 "supportsQueryDomains": true,
 "capabilities": "Map,Query,Data",
 "supportedQueryFormats": "JSON, geoJSON, PBF",
 "exportTilesAllowed": true,
 "maxExportTilesCount": 100000,
 "referenceScale": 0.0,
 "datumTransformations": [
  {
   "geoTransforms": [
    {
     "wkid": 108001,
     "latestWkid": 1241,
     "transformForward": true,
     "name": "NAD_1927_To_NAD_1983_NADCON"
    }
   ]
  },
  {
   "geoTransforms": [
    {
     "wkid": 108001,
     "latestWkid": 1241,
     "transformForward": false,
     "name": "NAD_1927_To_NAD_1983_NADCON"
    }
   ]
  }
 ],
 "supportsDatumTransformation": true,
 "archivingInfo": {
  "supportsHistoricMoment": false
 },
 "supportsClipping": true,
 "supportsSpatialFilter": true,
 "supportsTimeRelation": true,
 "supportsQueryDataElements": true,
 "mapUnits": {
  "uwkid": 9001
 },
 "maxSelectionCount": 2000,
 "maxRecordCount": 1000,
 "maxImageHeight": 4096,
 "maxImageWidth": 4096,
 "supportedExtensions": "",
 "serviceItemId": "cb58434280ee4182bdad36b4fcb21df3"
}
