{
 "currentVersion": 11.5,
 "cimVersion": "3.5.0",
 "serviceDescription": "USGS NHD in Alaska Albers - current download from ftp://nhdftp.usgs.gov/DataSets/Staged/States/FileGDB/HighResolution FTP site is checked several times a year and downloaded if or when the file appears to be updated. mxd, service and cache is updated at that time. ",
 "mapName": "Layers",
 "description": "",
 "copyrightText": "USGS, ADFG",
 "supportsDynamicLayers": true,
 "layers": [
  {
   "id": 0,
   "name": "NHD",
   "parentLayerId": -1,
   "defaultVisibility": true,
   "subLayerIds": [
    1,
    2,
    3,
    4,
    5
   ],
   "minScale": 0,
   "maxScale": 0,
   "type": "Group Layer",
   "supportsDynamicLegends": false
  },
  {
   "id": 1,
   "name": "NHD - Lakes and Ponds",
   "parentLayerId": 0,
   "defaultVisibility": true,
   "subLayerIds": null,
   "minScale": 4000000,
   "maxScale": 0,
   "type": "Feature Layer",
   "geometryType": "esriGeometryPolygon",
   "supportsDynamicLegends": true
  },
  {
   "id": 2,
   "name": "NHD - Major Rivers",
   "parentLayerId": 0,
   "defaultVisibility": true,
   "subLayerIds": null,
   "minScale": 20000000,
   "maxScale": 250000,
   "type": "Feature Layer",
   "geometryType": "esriGeometryPolyline",
   "supportsDynamicLegends": true
  },
  {
   "id": 3,
   "name": "All NHD Rivers",
   "parentLayerId": 0,
   "defaultVisibility": true,
   "subLayerIds": null,
   "minScale": 250000,
   "maxScale": 0,
   "type": "Feature Layer",
   "geometryType": "esriGeometryPolyline",
   "supportsDynamicLegends": true
  },
  {
   "id": 4,
   "name": "NHD - Rivers",
   "parentLayerId": 0,
   "defaultVisibility": true,
   "subLayerIds": null,
   "minScale": 16000000,
   "maxScale": 250000,
   "type": "Feature Layer",
   "geometryType": "esriGeometryPolyline",
   "supportsDynamicLegends": true
  },
  {
   "id": 5,
   "name": "NHD - Complex channels",
   "parentLayerId": 0,
   "defaultVisibility": true,
   "subLayerIds": null,
   "minScale": 3000001,
   "maxScale": 63360,
   "type": "Feature Layer",
   "geometryType": "esriGeometryPolygon",
   "supportsDynamicLegends": true
  }
 ],
 "tables": [],
 "spatialReference": {
  "wkid": 102006,
  "latestWkid": 3338,
  "xyTolerance": 0.001,
  "zTolerance": 0.001,
  "mTolerance": 0.001,
  "falseX": -13752200,
  "falseY": -8948200,
  "xyUnits": 3.274821212148234E8,
  "falseZ": -100000,
  "zUnits": 10000,
  "falseM": -100000,
  "mUnits": 10000
 },
 "singleFusedMapCache": true,
 "tileInfo": {
  "rows": 512,
  "cols": 512,
  "dpi": 96,
  "format": "PNG8",
  "compressionQuality": 0,
  "origin": {
   "x": -13752200,
   "y": 18556200
  },
  "spatialReference": {
   "wkid": 102006,
   "latestWkid": 3338,
   "xyTolerance": 6.10720363170003E-9,
   "zTolerance": 2.0E-4,
   "mTolerance": 2.0E-4,
   "falseX": -13752200,
   "falseY": -8948200,
   "xyUnits": 3.27482121214823E8,
   "falseZ": -100000,
   "zUnits": 10000,
   "falseM": -100000,
   "mUnits": 10000
  },
  "lods": [
   {
    "level": 0,
    "resolution": 4233.341800016934,
    "scale": 16000000
   },
   {
    "level": 1,
    "resolution": 2116.670900008467,
    "scale": 8000000
   },
   {
    "level": 2,
    "resolution": 1058.3354500042335,
    "scale": 4000000
   },
   {
    "level": 3,
    "resolution": 529.1677250021168,
    "scale": 2000000
   },
   {
    "level": 4,
    "resolution": 264.5838625010584,
    "scale": 1000000
   },
   {
    "level": 5,
    "resolution": 132.2919312505292,
    "scale": 500000
   },
   {
    "level": 6,
    "resolution": 66.1459656252646,
    "scale": 250000
   },
   {
    "level": 7,
    "resolution": 33.0729828126323,
    "scale": 125000
   },
   {
    "level": 8,
    "resolution": 16.764033528067056,
    "scale": 63360
   },
   {
    "level": 9,
    "resolution": 6.350012700025401,
    "scale": 24000
   }
  ]
 },
 "storageInfo": {
  "storageFormat": "esriMapCacheStorageModeCompact",
  "packetSize": 128
 },
 "initialExtent": {
  "xmin": -3326003.726076628,
  "ymin": 734727.1269907062,
  "xmax": 2998608.923148673,
  "ymax": 3139265.269400325,
  "spatialReference": {
   "wkid": 102006,
   "latestWkid": 3338,
   "xyTolerance": 0.001,
   "zTolerance": 0.001,
   "mTolerance": 0.001,
   "falseX": -13752200,
   "falseY": -8948200,
   "xyUnits": 3.274821212148234E8,
   "falseZ": -100000,
   "zUnits": 10000,
   "falseM": -100000,
   "mUnits": 10000
  }
 },
 "fullExtent": {
  "xmin": -2136434.6802718695,
  "ymin": -152157.98011284112,
  "xmax": 1809039.8773439133,
  "ymax": 2739214.469298725,
  "spatialReference": {
   "wkid": 102006,
   "latestWkid": 3338,
   "xyTolerance": 0.001,
   "zTolerance": 0.001,
   "mTolerance": 0.001,
   "falseX": -13752200,
   "falseY": -8948200,
   "xyUnits": 3.274821212148234E8,
   "falseZ": -100000,
   "zUnits": 10000,
   "falseM": -100000,
   "mUnits": 10000
  }
 },
 "datesInUnknownTimezone": false,
 "minScale": 16000000,
 "maxScale": 24000,
 "units": "esriMeters",
 "supportedImageFormatTypes": "PNG32,PNG24,PNG,JPG,DIB,TIFF,EMF,PS,PDF,GIF,SVG,SVGZ,BMP",
 "documentInfo": {
  "Title": "National Hydro Dataset",
  "Author": "R Strauch",
  "Comments": "USGS NHD in Alaska Albers - current download from ftp://nhdftp.usgs.gov/DataSets/Staged/States/FileGDB/HighResolution FTP site is checked several times a year and downloaded if or when the file appears to be updated. mxd, service and cache is updated at that time. ",
  "Subject": "USGS NHD in Alaska Albers",
  "Category": "",
  "Version": "10.1",
  "AntialiasingMode": "None",
  "TextAntialiasingMode": "Force",
  "Keywords": "USGS,NHD,Hydro,Alaska,Alaska Albers"
 },
 "supportsQueryDomains": true,
 "capabilities": "Map,Query,Data",
 "supportedQueryFormats": "JSON, geoJSON, PBF",
 "exportTilesAllowed": false,
 "referenceScale": 0.0,
 "datumTransformations": [
  {
   "geoTransforms": [
    {
     "wkid": 108001,
     "latestWkid": 1241,
     "transformForward": true,
     "name": "NAD_1927_To_NAD_1983_NADCON"
    }
   ]
  },
  {
   "geoTransforms": [
    {
     "wkid": 108001,
     "latestWkid": 1241,
     "transformForward": false,
     "name": "NAD_1927_To_NAD_1983_NADCON"
    }
   ]
  }
 ],
 "supportsDatumTransformation": true,
 "archivingInfo": {
  "supportsHistoricMoment": false
 },
 "supportsClipping": true,
 "supportsSpatialFilter": true,
 "supportsTimeRelation": true,
 "supportsQueryDataElements": true,
 "mapUnits": {
  "uwkid": 9001
 },
 "maxSelectionCount": 2000,
 "maxRecordCount": 1000,
 "maxImageHeight": 4096,
 "maxImageWidth": 4096,
 "supportedExtensions": "",
 "serviceItemId": "4ca03983a6cd4b8c95260ac4db29f53e"
}
