{
 "currentVersion": 11.5,
 "cimVersion": "3.5.0",
 "serviceDescription": "National Geographic Topos - Cached in Alaska Albers projection. Cached from ArcGIS Online using ArcGIS Server v9.3. This cached service can not be updated since ArcGIS Server 10.0 no longer allows caching-a-cache.",
 "mapName": "Layers",
 "description": "",
 "copyrightText": "National Geographic Society, esri, adfg",
 "supportsDynamicLayers": false,
 "layers": [
  {
   "id": 0,
   "name": "Canada",
   "parentLayerId": -1,
   "defaultVisibility": true,
   "subLayerIds": null,
   "minScale": 0,
   "maxScale": 0,
   "type": "Feature Layer",
   "geometryType": "esriGeometryPolygon",
   "supportsDynamicLegends": true
  },
  {
   "id": 1,
   "name": "Russia",
   "parentLayerId": -1,
   "defaultVisibility": true,
   "subLayerIds": null,
   "minScale": 0,
   "maxScale": 0,
   "type": "Feature Layer",
   "geometryType": "esriGeometryPolygon",
   "supportsDynamicLegends": true
  }
 ],
 "tables": [],
 "spatialReference": {
  "wkid": 102006,
  "latestWkid": 3338,
  "xyTolerance": 0.001,
  "zTolerance": 0.001,
  "mTolerance": 0.001,
  "falseX": -13752200,
  "falseY": -8948200,
  "xyUnits": 3.274821212148234E8,
  "falseZ": -100000,
  "zUnits": 10000,
  "falseM": -100000,
  "mUnits": 10000
 },
 "singleFusedMapCache": true,
 "tileInfo": {
  "rows": 512,
  "cols": 512,
  "dpi": 96,
  "format": "JPEG",
  "compressionQuality": 75,
  "origin": {
   "x": -13752200,
   "y": 18556200
  },
  "spatialReference": {
   "wkid": 102006,
   "latestWkid": 3338,
   "xyTolerance": 0.001,
   "zTolerance": 2.0E-4,
   "mTolerance": 2.0E-4,
   "falseX": -1.51272941739447E7,
   "falseY": -1.02603306636783E7,
   "xyUnits": 2.97713495591797E8,
   "falseZ": -100000,
   "zUnits": 10000,
   "falseM": -100000,
   "mUnits": 10000
  },
  "lods": [
   {
    "level": 0,
    "resolution": 4233.34180001693,
    "scale": 16000000
   },
   {
    "level": 1,
    "resolution": 2116.67090000847,
    "scale": 8000000
   },
   {
    "level": 2,
    "resolution": 1058.33545000423,
    "scale": 4000000
   },
   {
    "level": 3,
    "resolution": 529.167725002117,
    "scale": 2000000
   },
   {
    "level": 4,
    "resolution": 264.583862501058,
    "scale": 1000000
   },
   {
    "level": 5,
    "resolution": 132.291931250529,
    "scale": 500000
   },
   {
    "level": 6,
    "resolution": 66.1459656252646,
    "scale": 250000
   },
   {
    "level": 7,
    "resolution": 33.0729828126323,
    "scale": 125000
   },
   {
    "level": 8,
    "resolution": 16.7640335280671,
    "scale": 63360
   },
   {
    "level": 9,
    "resolution": 6.3500127000254,
    "scale": 24000
   }
  ]
 },
 "storageInfo": {
  "storageFormat": "esriMapCacheStorageModeCompact",
  "packetSize": 128
 },
 "initialExtent": {
  "xmin": -3544042.877441925,
  "ymin": 715930.6484039614,
  "xmax": 2780569.771783375,
  "ymax": 3120468.79081358,
  "spatialReference": {
   "wkid": 102006,
   "latestWkid": 3338,
   "xyTolerance": 0.001,
   "zTolerance": 0.001,
   "mTolerance": 0.001,
   "falseX": -13752200,
   "falseY": -8948200,
   "xyUnits": 3.274821212148234E8,
   "falseZ": -100000,
   "zUnits": 10000,
   "falseM": -100000,
   "mUnits": 10000
  }
 },
 "fullExtent": {
  "xmin": -2283940.183640011,
  "ymin": -144402.36568642035,
  "xmax": 1520467.0779814618,
  "ymax": 2693865.897698813,
  "spatialReference": {
   "wkid": 102006,
   "latestWkid": 3338,
   "xyTolerance": 0.001,
   "zTolerance": 0.001,
   "mTolerance": 0.001,
   "falseX": -13752200,
   "falseY": -8948200,
   "xyUnits": 3.274821212148234E8,
   "falseZ": -100000,
   "zUnits": 10000,
   "falseM": -100000,
   "mUnits": 10000
  }
 },
 "datesInUnknownTimezone": false,
 "minScale": 16000000,
 "maxScale": 24000,
 "units": "esriMeters",
 "supportedImageFormatTypes": "PNG32,PNG24,PNG,JPG,DIB,TIFF,EMF,PS,PDF,GIF,SVG,SVGZ,BMP",
 "documentInfo": {
  "Title": "National Geographic Topos - Cached in Alaska Albers projection",
  "Author": "R Strauch",
  "Comments": "National Geographic Topos - Cached in Alaska Albers projection. Cached from ArcGIS Online using ArcGIS Server v9.3. This cached service can not be updated since ArcGIS Server 10.0 no longer allows caching-a-cache.",
  "Subject": "National Geographic Topos - Cached in Alaska Albers projection. Cached from ArcGIS Online using ArcGIS Server v9.3",
  "Category": "",
  "Version": "10.1",
  "AntialiasingMode": "None",
  "TextAntialiasingMode": "Force",
  "Keywords": "Alaska,topo,Alaska Albers"
 },
 "supportsQueryDomains": true,
 "capabilities": "Map,Query,Data",
 "supportedQueryFormats": "JSON, geoJSON, PBF",
 "exportTilesAllowed": false,
 "referenceScale": 0.0,
 "datumTransformations": [
  {
   "geoTransforms": [
    {
     "wkid": 108001,
     "latestWkid": 1241,
     "transformForward": true,
     "name": "NAD_1927_To_NAD_1983_NADCON"
    }
   ]
  },
  {
   "geoTransforms": [
    {
     "wkid": 108001,
     "latestWkid": 1241,
     "transformForward": false,
     "name": "NAD_1927_To_NAD_1983_NADCON"
    }
   ]
  }
 ],
 "supportsDatumTransformation": true,
 "archivingInfo": {
  "supportsHistoricMoment": false
 },
 "supportsClipping": true,
 "supportsSpatialFilter": true,
 "supportsTimeRelation": true,
 "supportsQueryDataElements": true,
 "mapUnits": {
  "uwkid": 9001
 },
 "maxSelectionCount": 2000,
 "maxRecordCount": 1000,
 "maxImageHeight": 2048,
 "maxImageWidth": 2048,
 "supportedExtensions": "",
 "serviceItemId": "10a7c5f13d3d4a23b87932dd95eb74a9"
}
